BEGIN:VCALENDAR
VERSION:2.0
PRODID:-//ChamberMaster//Event Calendar 2.0//EN
METHOD:PUBLISH
X-PUBLISHED-TTL:P3D
REFRESH-INTERVAL:P3D
CALSCALE:GREGORIAN
BEGIN:VEVENT
DTSTART:20260430T190000Z
DTEND:20260501T020000Z
X-MICROSOFT-CDO-ALLDAYEVENT:FALSE
SUMMARY:2026 Big 4 Summit
DESCRIPTION:Join this groundbreaking discussion with elected officials\, CEOs\, brokers\, retailers\, logistics leaders\, and manufacturers on building a pathway towards a more business-friendly Southern California\n\n\n\nThe event will include expert panels\, presentations\, and networking opportunities with the intent on providing:\n\n	Unmatched Access: Connect directly with city leadership\, site selectors\, developers\, brokers\, manufacturers\, logistics executives\, and government officials.\n	Regional Influence: Align your organization with a unified\, pro-business coalition competing nationally for investment and jobs.\n	Thought Leadership: Position your company as a solution provider and industry leader.\n	Enhanced Decision Making: Engage with business partners\, government decision-makers and key stakeholders to discuss the future growth of the region.
X-ALT-DESC;FMTTYPE=text/html:<span style="font-size:14px\;"><strong><span style="font-family:verdana\;">Join this groundbreaking discussion with elected officials\, CEOs\, brokers\, retailers\, logistics leaders\, and manufacturers on building a pathway towards a more business-friendly Southern California</span></strong></span><br />\n<br />\n<span style="font-family:tahoma\;"><em><span style="color:black\;">The event will include expert panels\, presentations\, and networking opportunities with the intent on providing:</span></em></span>\n<ul>\n	<li style="background:white\;"><strong>Unmatched Access: </strong>Connect directly with city leadership\, site selectors\, developers\, brokers\, manufacturers\, logistics executives\, and government officials.</li>\n	<li style="background:white\;"><strong>Regional Influence:</strong>&nbsp\;Align your organization with a unified\, pro-business coalition competing nationally for investment and jobs.</li>\n	<li style="background:white\;"><strong>Thought Leadership:</strong>&nbsp\;Position your company as a solution provider and industry leader.</li>\n	<li style="background:white\;"><strong>Enhanced Decision Making:</strong>&nbsp\;Engage with business partners\, government decision-makers and key stakeholders to discuss the future growth of the region.&nbsp\;</li>\n</ul>\n
LOCATION:The Clarke Estate 10211 Pioneer Blvd Santa Fe Springs\, CA 90670
UID:e.2414.507
SEQUENCE:3
DTSTAMP:20260424T081208Z
URL:https://www.commercebusinesscouncil.org/events/details/2026-big-4-summit-507
END:VEVENT

END:VCALENDAR
